BEGIN:VCALENDAR
VERSION:2.0
PRODID:-//Cowboy Town - ECPv6.15.0.1//NONSGML v1.0//EN
CALSCALE:GREGORIAN
METHOD:PUBLISH
X-WR-CALNAME:Cowboy Town
X-ORIGINAL-URL:https://cowboytownga.com
X-WR-CALDESC:Events for Cowboy Town
REFRESH-INTERVAL;VALUE=DURATION:PT1H
X-Robots-Tag:noindex
X-PUBLISHED-TTL:PT1H
BEGIN:VTIMEZONE
TZID:America/New_York
BEGIN:DAYLIGHT
TZOFFSETFROM:-0500
TZOFFSETTO:-0400
TZNAME:EDT
DTSTART:20250309T070000
END:DAYLIGHT
BEGIN:STANDARD
TZOFFSETFROM:-0400
TZOFFSETTO:-0500
TZNAME:EST
DTSTART:20251102T060000
END:STANDARD
END:VTIMEZONE
BEGIN:VEVENT
DTSTART;TZID=America/New_York:20250705T200000
DTEND;TZID=America/New_York:20250705T230000
DTSTAMP:20260419T174549
CREATED:20250610T190334Z
LAST-MODIFIED:20250610T190334Z
UID:841-1751745600-1751756400@cowboytownga.com
SUMMARY:Jake Shavers Live Music
DESCRIPTION:Jake Shavers playing live! \nCome on out for good times\, tasty food & drinks\, and some great music!
URL:https://cowboytownga.com/event/jake-shavers-live-music/
CATEGORIES:Live Music
END:VEVENT
BEGIN:VEVENT
DTSTART;TZID=America/New_York:20250711T193000
DTEND;TZID=America/New_York:20250711T223000
DTSTAMP:20260419T174549
CREATED:20250621T193614Z
LAST-MODIFIED:20250621T193614Z
UID:1003-1752262200-1752273000@cowboytownga.com
SUMMARY:AJ Robinson- Live Music!
DESCRIPTION:AJ Robinson playing live! \nCome on out for good times\, tasty food & drinks\, and some great music! \n 
URL:https://cowboytownga.com/event/aj-robinson/
CATEGORIES:Live Music
END:VEVENT
BEGIN:VEVENT
DTSTART;TZID=America/New_York:20250712T200000
DTEND;TZID=America/New_York:20250712T230000
DTSTAMP:20260419T174549
CREATED:20250610T190643Z
LAST-MODIFIED:20250610T190643Z
UID:843-1752350400-1752361200@cowboytownga.com
SUMMARY:Julia Bell Band Live Music
DESCRIPTION:Julia Bell with her band playing live! \nCome on out for good times\, tasty food & drinks\, and some great music!
URL:https://cowboytownga.com/event/julia-bell-band-live-music/
CATEGORIES:Live Music
END:VEVENT
BEGIN:VEVENT
DTSTART;TZID=America/New_York:20250718T200000
DTEND;TZID=America/New_York:20250718T230000
DTSTAMP:20260419T174549
CREATED:20250610T192054Z
LAST-MODIFIED:20250610T192054Z
UID:864-1752868800-1752879600@cowboytownga.com
SUMMARY:Russ Gordon Live Music
DESCRIPTION:Russ Gordon playing live! \nCome on out for good times\, tasty food & drinks\, and some great music!
URL:https://cowboytownga.com/event/russ-gordon-live-music/
CATEGORIES:Live Music
END:VEVENT
BEGIN:VEVENT
DTSTART;TZID=America/New_York:20250719T200000
DTEND;TZID=America/New_York:20250719T230000
DTSTAMP:20260419T174549
CREATED:20250610T192203Z
LAST-MODIFIED:20250613T143126Z
UID:866-1752955200-1752966000@cowboytownga.com
SUMMARY:Chase Tibbitts- Live Music!
DESCRIPTION:Chase Tibbitts playing live! \nCome on out for good times\, tasty food & drinks\, and some great music!
URL:https://cowboytownga.com/event/chase-tibbitts-live-music/
CATEGORIES:Live Music
END:VEVENT
BEGIN:VEVENT
DTSTART;TZID=America/New_York:20250725T200000
DTEND;TZID=America/New_York:20250725T230000
DTSTAMP:20260419T174549
CREATED:20250610T192246Z
LAST-MODIFIED:20250611T164212Z
UID:868-1753473600-1753484400@cowboytownga.com
SUMMARY:Lucas Smith Live Music!
DESCRIPTION:Lucas Smith playing live! \nCome on out for good times\, tasty food & drinks\, and some great music!
URL:https://cowboytownga.com/event/lucas-smith-live-music-2/
CATEGORIES:Live Music
END:VEVENT
BEGIN:VEVENT
DTSTART;TZID=America/New_York:20250726T200000
DTEND;TZID=America/New_York:20250726T230000
DTSTAMP:20260419T174549
CREATED:20250610T192422Z
LAST-MODIFIED:20250613T143542Z
UID:870-1753560000-1753570800@cowboytownga.com
SUMMARY:GP-38 Live Music!
DESCRIPTION:GP-38 playing live! \nCome on out for good times\, tasty food & drinks\, and some great music!
URL:https://cowboytownga.com/event/gp-38/
CATEGORIES:Live Music
END:VEVENT
END:VCALENDAR