BEGIN:VCALENDAR
VERSION:2.0
PRODID:-//Cowboy Town - ECPv6.15.0.1//NONSGML v1.0//EN
CALSCALE:GREGORIAN
METHOD:PUBLISH
X-WR-CALNAME:Cowboy Town
X-ORIGINAL-URL:https://cowboytownga.com
X-WR-CALDESC:Events for Cowboy Town
REFRESH-INTERVAL;VALUE=DURATION:PT1H
X-Robots-Tag:noindex
X-PUBLISHED-TTL:PT1H
BEGIN:VTIMEZONE
TZID:America/New_York
BEGIN:DAYLIGHT
TZOFFSETFROM:-0500
TZOFFSETTO:-0400
TZNAME:EDT
DTSTART:20250309T070000
END:DAYLIGHT
BEGIN:STANDARD
TZOFFSETFROM:-0400
TZOFFSETTO:-0500
TZNAME:EST
DTSTART:20251102T060000
END:STANDARD
END:VTIMEZONE
BEGIN:VEVENT
DTSTART;TZID=America/New_York:20250905T200000
DTEND;TZID=America/New_York:20250905T230000
DTSTAMP:20260419T143226
CREATED:20250811T184540Z
LAST-MODIFIED:20250811T184540Z
UID:1079-1757102400-1757113200@cowboytownga.com
SUMMARY:Will Small & Elijah Pascal- Live Music!
DESCRIPTION:Will Small & Elijah Pascal playing live! \nCome on out for good times\, tasty food & drinks\, and some great music! \n 
URL:https://cowboytownga.com/event/smallpascal/
CATEGORIES:Live Music
END:VEVENT
BEGIN:VEVENT
DTSTART;TZID=America/New_York:20250906T200000
DTEND;TZID=America/New_York:20250906T230000
DTSTAMP:20260419T143226
CREATED:20250714T202353Z
LAST-MODIFIED:20250714T202353Z
UID:1050-1757188800-1757199600@cowboytownga.com
SUMMARY:Luke Morgan & The Redliners- Live Music!
DESCRIPTION:Luke Morgan & The Redliners playing live! \nCome on out for good times\, tasty food & drinks\, and some great music! \n 
URL:https://cowboytownga.com/event/luke-morgan/
CATEGORIES:Live Music
END:VEVENT
BEGIN:VEVENT
DTSTART;TZID=America/New_York:20250912T193000
DTEND;TZID=America/New_York:20250912T223000
DTSTAMP:20260419T143226
CREATED:20250712T190014Z
LAST-MODIFIED:20250712T190014Z
UID:1048-1757705400-1757716200@cowboytownga.com
SUMMARY:AJ Robinson- Live Music!
DESCRIPTION:AJ Robinson playing live! \nCome on out for good times\, tasty food & drinks\, and some great music!
URL:https://cowboytownga.com/event/aj-robinson-live-music/
CATEGORIES:Live Music
END:VEVENT
BEGIN:VEVENT
DTSTART;TZID=America/New_York:20250913T200000
DTEND;TZID=America/New_York:20250913T230000
DTSTAMP:20260419T143226
CREATED:20250613T132659Z
LAST-MODIFIED:20250613T132659Z
UID:961-1757793600-1757804400@cowboytownga.com
SUMMARY:The Sally Brown Band- Live Music!
DESCRIPTION:The Sally Brown Band playing live! \nCome on out for good times\, tasty food & drinks\, and some great music! \n 
URL:https://cowboytownga.com/event/the-sally-brown-band-live-music/
CATEGORIES:Live Music
END:VEVENT
BEGIN:VEVENT
DTSTART;TZID=America/New_York:20250919T200000
DTEND;TZID=America/New_York:20250919T230000
DTSTAMP:20260419T143226
CREATED:20250710T173050Z
LAST-MODIFIED:20250710T173050Z
UID:1042-1758312000-1758322800@cowboytownga.com
SUMMARY:Traylee Oglesby- Live Music!
DESCRIPTION:Traylee Oglesby playing live at Cowboy Town! \nCome on out for good times\, tasty food & drinks\, and some great music! \n 
URL:https://cowboytownga.com/event/traylee-oglesby-live-music/
CATEGORIES:Live Music
END:VEVENT
BEGIN:VEVENT
DTSTART;TZID=America/New_York:20250920T200000
DTEND;TZID=America/New_York:20250920T230000
DTSTAMP:20260419T143226
CREATED:20250613T132820Z
LAST-MODIFIED:20250613T132820Z
UID:963-1758398400-1758409200@cowboytownga.com
SUMMARY:Double Granite Band- Live Music!
DESCRIPTION:The Double Granite Band playing live! \nCome on out for good times\, tasty food & drinks\, and some great music!
URL:https://cowboytownga.com/event/double-granite-band-live-music-2/
CATEGORIES:Live Music
END:VEVENT
BEGIN:VEVENT
DTSTART;TZID=America/New_York:20250926T200000
DTEND;TZID=America/New_York:20250926T230000
DTSTAMP:20260419T143226
CREATED:20250613T133008Z
LAST-MODIFIED:20250613T133126Z
UID:965-1758916800-1758927600@cowboytownga.com
SUMMARY:Kit & Char- Live Music!
DESCRIPTION:Kit & Char playing live! \nCome on out for good times\, tasty food & drinks\, and some great music!
URL:https://cowboytownga.com/event/kit-char-live-music/
CATEGORIES:Live Music
END:VEVENT
BEGIN:VEVENT
DTSTART;TZID=America/New_York:20250927T200000
DTEND;TZID=America/New_York:20250927T230000
DTSTAMP:20260419T143226
CREATED:20250624T173115Z
LAST-MODIFIED:20250624T173115Z
UID:1007-1759003200-1759014000@cowboytownga.com
SUMMARY:Doc Alford & The Raising Sand Band- Live!
DESCRIPTION:Doc Alford & The Raising Sand Band playing live! \nCome on out for good times\, tasty food & drinks\, and some great music!
URL:https://cowboytownga.com/event/doc-alford-the-raising-sand-band-live-2/
CATEGORIES:Live Music
END:VEVENT
END:VCALENDAR