BEGIN:VCALENDAR
VERSION:2.0
PRODID:-//Cowboy Town - ECPv6.15.0.1//NONSGML v1.0//EN
CALSCALE:GREGORIAN
METHOD:PUBLISH
X-ORIGINAL-URL:https://cowboytownga.com
X-WR-CALDESC:Events for Cowboy Town
REFRESH-INTERVAL;VALUE=DURATION:PT1H
X-Robots-Tag:noindex
X-PUBLISHED-TTL:PT1H
BEGIN:VTIMEZONE
TZID:America/New_York
BEGIN:DAYLIGHT
TZOFFSETFROM:-0500
TZOFFSETTO:-0400
TZNAME:EDT
DTSTART:20250309T070000
END:DAYLIGHT
BEGIN:STANDARD
TZOFFSETFROM:-0400
TZOFFSETTO:-0500
TZNAME:EST
DTSTART:20251102T060000
END:STANDARD
END:VTIMEZONE
BEGIN:VEVENT
DTSTART;TZID=America/New_York:20251101T200000
DTEND;TZID=America/New_York:20251101T230000
DTSTAMP:20260419T111719
CREATED:20250613T142414Z
LAST-MODIFIED:20250613T142434Z
UID:973-1762027200-1762038000@cowboytownga.com
SUMMARY:2 Broke Kings- Live Music!
DESCRIPTION:2 Broke Kings playing live! \nCome on out for good times\, tasty food & drinks\, and some great music!
URL:https://cowboytownga.com/event/2-broke-kings/
CATEGORIES:Live Music
END:VEVENT
BEGIN:VEVENT
DTSTART;TZID=America/New_York:20251107T200000
DTEND;TZID=America/New_York:20251107T230000
DTSTAMP:20260419T111719
CREATED:20250613T142708Z
LAST-MODIFIED:20250613T144732Z
UID:975-1762545600-1762556400@cowboytownga.com
SUMMARY:Chad Jernigan- Live Music!
DESCRIPTION:Chad Jernigan playing live! \nCome on out for good times\, tasty food & drinks\, and some great music!
URL:https://cowboytownga.com/event/chad-jernigan/
CATEGORIES:Live Music
END:VEVENT
BEGIN:VEVENT
DTSTART;TZID=America/New_York:20251108T200000
DTEND;TZID=America/New_York:20251108T230000
DTSTAMP:20260419T111719
CREATED:20250901T171414Z
LAST-MODIFIED:20250901T171414Z
UID:1115-1762632000-1762642800@cowboytownga.com
SUMMARY:The Highway Cats- Live Music!
DESCRIPTION:The Highway Cats band playing live! \nCome on out for good times\, tasty food & drinks\, and some great music! \n 
URL:https://cowboytownga.com/event/the-highway-cats/
CATEGORIES:Live Music
END:VEVENT
BEGIN:VEVENT
DTSTART;TZID=America/New_York:20251114T200000
DTEND;TZID=America/New_York:20251114T230000
DTSTAMP:20260419T111719
CREATED:20250613T144237Z
LAST-MODIFIED:20250613T144257Z
UID:982-1763150400-1763161200@cowboytownga.com
SUMMARY:Ryan LittleEagle Live Music!
DESCRIPTION:Come join us for the live music of Ryan LittleEagle! \n 
URL:https://cowboytownga.com/event/ryan-littleeagle/
CATEGORIES:Live Music
END:VEVENT
BEGIN:VEVENT
DTSTART;TZID=America/New_York:20251115T200000
DTEND;TZID=America/New_York:20251115T230000
DTSTAMP:20260419T111719
CREATED:20250611T005232Z
LAST-MODIFIED:20250613T143045Z
UID:893-1763236800-1763247600@cowboytownga.com
SUMMARY:Chase Tibbitts- Live Music!
DESCRIPTION:Chase Tibbitts playing live! \nCome on out for good times\, tasty food & drinks\, and some great music!
URL:https://cowboytownga.com/event/chase-tibbitts-live-music-2/
CATEGORIES:Live Music
END:VEVENT
BEGIN:VEVENT
DTSTART;TZID=America/New_York:20251121T200000
DTEND;TZID=America/New_York:20251121T230000
DTSTAMP:20260419T111719
CREATED:20250714T202504Z
LAST-MODIFIED:20250714T202504Z
UID:1052-1763755200-1763766000@cowboytownga.com
SUMMARY:Luke Morgan & The Redliners- Live Music!
DESCRIPTION:Luke Morgan & The Redliners playing live! \nCome on out for good times\, tasty food & drinks\, and some great music! \n 
URL:https://cowboytownga.com/event/luke-morgan-the-redliners-live-music/
CATEGORIES:Live Music
END:VEVENT
BEGIN:VEVENT
DTSTART;TZID=America/New_York:20251122T200000
DTEND;TZID=America/New_York:20251122T230000
DTSTAMP:20260419T111719
CREATED:20250807T222710Z
LAST-MODIFIED:20251117T182404Z
UID:1075-1763841600-1763852400@cowboytownga.com
SUMMARY:The Highway Cats- Live Music!
DESCRIPTION:The Highway Cats playing live! \nCome on out for good times\, tasty food & drinks\, and some great music! \n 
URL:https://cowboytownga.com/event/highwaycats/
CATEGORIES:Live Music
END:VEVENT
BEGIN:VEVENT
DTSTART;TZID=America/New_York:20251128T200000
DTEND;TZID=America/New_York:20251128T230000
DTSTAMP:20260419T111719
CREATED:20251001T154551Z
LAST-MODIFIED:20251001T154551Z
UID:1138-1764360000-1764370800@cowboytownga.com
SUMMARY:Doc Alford & The Raising Sand Band- Live!
DESCRIPTION:Doc Alford & The Raising Sand Band playing live! \nCome on out for good times\, tasty food & drinks\, and some great music!
URL:https://cowboytownga.com/event/doc-alford-the-raising-sand-band-live-3/
CATEGORIES:Live Music
END:VEVENT
BEGIN:VEVENT
DTSTART;TZID=America/New_York:20251129T200000
DTEND;TZID=America/New_York:20251129T230000
DTSTAMP:20260419T111719
CREATED:20250808T010052Z
LAST-MODIFIED:20250808T010052Z
UID:1077-1764446400-1764457200@cowboytownga.com
SUMMARY:The Sean Carter Band- Live Music!
DESCRIPTION:Sean Carter Band playing live! \nCome on out for good times\, tasty food & drinks\, and some great music! \n 
URL:https://cowboytownga.com/event/seancarterband/
CATEGORIES:Live Music
END:VEVENT
END:VCALENDAR