BEGIN:VCALENDAR
VERSION:2.0
PRODID:-//Cowboy Town - ECPv6.15.0.1//NONSGML v1.0//EN
CALSCALE:GREGORIAN
METHOD:PUBLISH
X-WR-CALNAME:Cowboy Town
X-ORIGINAL-URL:https://cowboytownga.com
X-WR-CALDESC:Events for Cowboy Town
REFRESH-INTERVAL;VALUE=DURATION:PT1H
X-Robots-Tag:noindex
X-PUBLISHED-TTL:PT1H
BEGIN:VTIMEZONE
TZID:America/New_York
BEGIN:DAYLIGHT
TZOFFSETFROM:-0500
TZOFFSETTO:-0400
TZNAME:EDT
DTSTART:20250309T070000
END:DAYLIGHT
BEGIN:STANDARD
TZOFFSETFROM:-0400
TZOFFSETTO:-0500
TZNAME:EST
DTSTART:20251102T060000
END:STANDARD
END:VTIMEZONE
BEGIN:VEVENT
DTSTART;TZID=America/New_York:20251024T200000
DTEND;TZID=America/New_York:20251024T230000
DTSTAMP:20260419T143400
CREATED:20250613T134351Z
LAST-MODIFIED:20250613T134351Z
UID:969-1761336000-1761346800@cowboytownga.com
SUMMARY:The Page Brothers Duo- Live Music!
DESCRIPTION:The Page Bros (duo) playing live!  “A Band of Brothers with a Swampy\, Southern Sound rooted in Bluesy Rock N’ Roll and Georgia Soul.” \nhttps://www.youtube.com/@Thepagebrothersband \nCome on out for good times\, tasty food & drinks\, and some great music!
URL:https://cowboytownga.com/event/the-page-brothers-duo-live-music/
CATEGORIES:Live Music
END:VEVENT
END:VCALENDAR