BEGIN:VCALENDAR
VERSION:2.0
PRODID:-//Cowboy Town - ECPv6.15.0.1//NONSGML v1.0//EN
CALSCALE:GREGORIAN
METHOD:PUBLISH
X-ORIGINAL-URL:https://cowboytownga.com
X-WR-CALDESC:Events for Cowboy Town
REFRESH-INTERVAL;VALUE=DURATION:PT1H
X-Robots-Tag:noindex
X-PUBLISHED-TTL:PT1H
BEGIN:VTIMEZONE
TZID:America/New_York
BEGIN:DAYLIGHT
TZOFFSETFROM:-0500
TZOFFSETTO:-0400
TZNAME:EDT
DTSTART:20250309T070000
END:DAYLIGHT
BEGIN:STANDARD
TZOFFSETFROM:-0400
TZOFFSETTO:-0500
TZNAME:EST
DTSTART:20251102T060000
END:STANDARD
END:VTIMEZONE
BEGIN:VEVENT
DTSTART;TZID=America/New_York:20251219T200000
DTEND;TZID=America/New_York:20251219T230000
DTSTAMP:20260419T110917
CREATED:20250613T144819Z
LAST-MODIFIED:20250613T144819Z
UID:987-1766174400-1766185200@cowboytownga.com
SUMMARY:Chad Jernigan- Live Music!
DESCRIPTION:Chad Jernigan playing live! \nCome on out for good times\, tasty food & drinks\, and some great music!
URL:https://cowboytownga.com/event/chad-jernigan-live-music/
CATEGORIES:Live Music
END:VEVENT
END:VCALENDAR