BEGIN:VCALENDAR
VERSION:2.0
PRODID:-//Cowboy Town - ECPv6.15.0.1//NONSGML v1.0//EN
CALSCALE:GREGORIAN
METHOD:PUBLISH
X-WR-CALNAME:Cowboy Town
X-ORIGINAL-URL:https://cowboytownga.com
X-WR-CALDESC:Events for Cowboy Town
REFRESH-INTERVAL;VALUE=DURATION:PT1H
X-Robots-Tag:noindex
X-PUBLISHED-TTL:PT1H
BEGIN:VTIMEZONE
TZID:America/New_York
BEGIN:DAYLIGHT
TZOFFSETFROM:-0500
TZOFFSETTO:-0400
TZNAME:EDT
DTSTART:20250309T070000
END:DAYLIGHT
BEGIN:STANDARD
TZOFFSETFROM:-0400
TZOFFSETTO:-0500
TZNAME:EST
DTSTART:20251102T060000
END:STANDARD
END:VTIMEZONE
BEGIN:VEVENT
DTSTART;TZID=America/New_York:20251227T200000
DTEND;TZID=America/New_York:20251227T230000
DTSTAMP:20260419T112035
CREATED:20250906T180005Z
LAST-MODIFIED:20250906T180005Z
UID:1119-1766865600-1766876400@cowboytownga.com
SUMMARY:The Rail Street Band- Live Music!
DESCRIPTION:The Rail Street Band playing live! \n  \nCome on out for good times\, tasty food & drinks\, and some great music! \n 
URL:https://cowboytownga.com/event/rail-street-band-live-music/
CATEGORIES:Live Music
END:VEVENT
END:VCALENDAR